BEGIN:VCALENDAR
VERSION:2.0
PRODID:-//ChurchDev//Events//EN
CALSCALE:GREGORIAN
METHOD:PUBLISH
BEGIN:VEVENT
UID:5024-20260625@www.truelifeministriesnc.org
SUMMARY:VBS 2026 ILLUMINATION STATION
DTSTART:20260625T220000Z
DTEND:20260626T000000Z
DESCRIPTION:We invite your kids to Illumination Station VBS for the brightest few days of the year! While many people claim to know about Jesus\, many are in the dark about who He really is. During VBS kids will explore all the ways light brightens\, illuminates\, reflects\, and reveals.\\n&nbsp\;\\nJohn 8:12- Jesus spoke to them again &#8220\;Iam the light of the world. Anyone who follows me will never walk in the darkness but will have the light of life&#8221\;\\n&nbsp\;\\nJoin us for 3 days of VBS Illumination St...\\n\\nhttps://www.truelifeministriesnc.org/events/vbs-2026-illumination-station/
LOCATION:30141 Aberdeen Road Wagram\, NC 28396
URL:https://www.truelifeministriesnc.org/events/vbs-2026-illumination-station/
DTSTAMP:20260419T221600Z
END:VEVENT
END:VCALENDAR
