BEGIN:VCALENDAR
VERSION:2.0
PRODID:-//ChurchDev//Events//EN
CALSCALE:GREGORIAN
METHOD:PUBLISH
BEGIN:VEVENT
UID:5016-20260412@www.truelifeministriesnc.org
SUMMARY:Key Leadership Meeting
DTSTART:20260412T163000Z
DTEND:20260412T173000Z
DESCRIPTION:Quarterly Key Leaders Meeting\\n\\nhttps://www.truelifeministriesnc.org/events/key-leadership-meeting-2/
LOCATION:30141 Aberdeen Road Wagram\, NC 28396
URL:https://www.truelifeministriesnc.org/events/key-leadership-meeting-2/
DTSTAMP:20260419T204809Z
END:VEVENT
END:VCALENDAR
