BEGIN:VCALENDAR
VERSION:2.0
PRODID:-//ChurchDev//Events//EN
CALSCALE:GREGORIAN
METHOD:PUBLISH
BEGIN:VEVENT
UID:5015-20260412@www.truelifeministriesnc.org
SUMMARY:Ministers Meeting
DTSTART:20260412T130000Z
DTEND:20260412T134500Z
DESCRIPTION:MINISTERS AND  PASTORS QUARTERLY MEETING\\n\\nhttps://www.truelifeministriesnc.org/events/ministers-meeting-3/
LOCATION:30141 Aberdeen Road Wagram\, NC 28396
URL:https://www.truelifeministriesnc.org/events/ministers-meeting-3/
DTSTAMP:20260419T204816Z
END:VEVENT
END:VCALENDAR
