BEGIN:VCALENDAR
VERSION:2.0
PRODID:-//ChurchDev//Events//EN
CALSCALE:GREGORIAN
METHOD:PUBLISH
BEGIN:VEVENT
UID:5013-20260411@www.truelifeministriesnc.org
SUMMARY:Quarterly Constituent Meeting
DTSTART:20260411T140000Z
DTEND:20260411T160000Z
DESCRIPTION:Join us for our Quarterly Constituent Meeting.  We discuss financial statements. TLM cafe\\n\\nhttps://www.truelifeministriesnc.org/events/quarterly-constituent-meeting-4/
LOCATION:30141 Aberdeen Road Wagram\, NC 28396
URL:https://www.truelifeministriesnc.org/events/quarterly-constituent-meeting-4/
DTSTAMP:20260419T204809Z
END:VEVENT
END:VCALENDAR
