BEGIN:VCALENDAR
VERSION:2.0
PRODID:-//ChurchDev//Events//EN
CALSCALE:GREGORIAN
METHOD:PUBLISH
BEGIN:VEVENT
UID:5007-20260404@www.truelifeministriesnc.org
SUMMARY:March for Jesus 2026
DTSTART:20260404T133000Z
DTEND:20260404T180000Z
DESCRIPTION:March for Jesus is a global\, non-denominational\, and peaceful event where Christians unite to worship and publicly proclaim the name of Jesus!!!\\nJoin us @ 9:30 am\\nStarting point: IGA grocery store (240 S Main St. Raeford NC\\nEnd Point: The Library @ 334 N Main St. Raeford NC\\nCome out and join us in sharing the love of Jesus Christ with the community. We will enjoy worship\, free food and most importantly great fellowship!!!\\n\\nhttps://www.truelifeministriesnc.org/events/march-for-jesus-2026/
LOCATION:30141 Aberdeen Road Wagram\, NC 28396
URL:https://www.truelifeministriesnc.org/events/march-for-jesus-2026/
DTSTAMP:20260419T204815Z
END:VEVENT
END:VCALENDAR
