BEGIN:VCALENDAR
VERSION:2.0
PRODID:-//ChurchDev//Events//EN
CALSCALE:GREGORIAN
METHOD:PUBLISH
BEGIN:VEVENT
UID:5003-20260527@www.truelifeministriesnc.org
SUMMARY:Bible Study/Acts 13:1-3\, 44-52
DTSTART:20260527T230000Z
DTEND:20260528T000000Z
DESCRIPTION:Wednesday Evening Bible Study\\nTLM Cafe\\nTopic: A Mission Without Boundaries\\n\\nhttps://www.truelifeministriesnc.org/events/bible-study-acts-131-3-44-52/
LOCATION:30141 Aberdeen Road Wagram\, NC 28396
URL:https://www.truelifeministriesnc.org/events/bible-study-acts-131-3-44-52/
DTSTAMP:20260419T221920Z
END:VEVENT
END:VCALENDAR
