BEGIN:VCALENDAR
VERSION:2.0
PRODID:-//ChurchDev//Events//EN
CALSCALE:GREGORIAN
METHOD:PUBLISH
BEGIN:VEVENT
UID:5002-20260520@www.truelifeministriesnc.org
SUMMARY:Bible Study/Acts 8:26-38
DTSTART:20260520T230000Z
DTEND:20260521T000000Z
DESCRIPTION:Wednesday Evening Bible Study\\nTLM Cafe\\nTopic: A Mission Outside Your Comfort Zone\\n&nbsp\;\\n\\nhttps://www.truelifeministriesnc.org/events/bible-study-acts-826-38/
LOCATION:30141 Aberdeen Road Wagram\, NC 28396
URL:https://www.truelifeministriesnc.org/events/bible-study-acts-826-38/
DTSTAMP:20260419T222037Z
END:VEVENT
END:VCALENDAR
