BEGIN:VCALENDAR
VERSION:2.0
PRODID:-//ChurchDev//Events//EN
CALSCALE:GREGORIAN
METHOD:PUBLISH
BEGIN:VEVENT
UID:5001-20260513@www.truelifeministriesnc.org
SUMMARY:Bible Study/Acts 4:23-31
DTSTART:20260513T230000Z
DTEND:20260514T000000Z
DESCRIPTION:Wednesday Evening Bible Study\\nTLM Cafe\\nTopic: A Mission Soaked in Prayer\\n\\nhttps://www.truelifeministriesnc.org/events/bible-study-acts-423-31/
LOCATION:30141 Aberdeen Road Wagram\, NC 28396
URL:https://www.truelifeministriesnc.org/events/bible-study-acts-423-31/
DTSTAMP:20260419T221902Z
END:VEVENT
END:VCALENDAR
