BEGIN:VCALENDAR
VERSION:2.0
PRODID:-//ChurchDev//Events//EN
CALSCALE:GREGORIAN
METHOD:PUBLISH
BEGIN:VEVENT
UID:5000-20260506@www.truelifeministriesnc.org
SUMMARY:Bible Study/Acts 4:1-3\, 8-12\, 19-20
DTSTART:20260506T230000Z
DTEND:20260507T000000Z
DESCRIPTION:https://www.truelifeministriesnc.org/events/bible-study-acts-41-3-8-12-19-20/
LOCATION:30141 Aberdeen Road Wagram\, NC 28396
URL:https://www.truelifeministriesnc.org/events/bible-study-acts-41-3-8-12-19-20/
DTSTAMP:20260419T222105Z
END:VEVENT
END:VCALENDAR
