BEGIN:VCALENDAR
VERSION:2.0
PRODID:-//ChurchDev//Events//EN
CALSCALE:GREGORIAN
METHOD:PUBLISH
BEGIN:VEVENT
UID:4999-20260429@www.truelifeministriesnc.org
SUMMARY:Bible Study/Acts 3:12-20\, 24-26
DTSTART:20260429T230000Z
DTEND:20260430T000000Z
DESCRIPTION:Wednesday Evening Bible Study\\nTLM Cafe\\nTopic: A Mission with a Message\\n\\nhttps://www.truelifeministriesnc.org/events/bible-study-acts-312-20-24-26/
LOCATION:30141 Aberdeen Road Wagram\, NC 28396
URL:https://www.truelifeministriesnc.org/events/bible-study-acts-312-20-24-26/
DTSTAMP:20260419T205006Z
END:VEVENT
END:VCALENDAR
