BEGIN:VCALENDAR
VERSION:2.0
PRODID:-//ChurchDev//Events//EN
CALSCALE:GREGORIAN
METHOD:PUBLISH
BEGIN:VEVENT
UID:4996-20260422@www.truelifeministriesnc.org
SUMMARY:Bible Study/Acts 3:1-10
DTSTART:20260422T230000Z
DTEND:20260423T000000Z
DESCRIPTION:Wednesday Evening Bible Study\\nTLM Cafe\\nTopic: A Mission Full of Opportunities\\n\\nhttps://www.truelifeministriesnc.org/events/bible-study-acts-31-10/
LOCATION:30141 Aberdeen Road Wagram\, NC 28396
URL:https://www.truelifeministriesnc.org/events/bible-study-acts-31-10/
DTSTAMP:20260419T204940Z
END:VEVENT
END:VCALENDAR
