BEGIN:VCALENDAR
VERSION:2.0
PRODID:-//ChurchDev//Events//EN
CALSCALE:GREGORIAN
METHOD:PUBLISH
BEGIN:VEVENT
UID:4994-20260415@www.truelifeministriesnc.org
SUMMARY:Bible Study/Psalm 102:18-28
DTSTART:20260415T230000Z
DTEND:20260416T000000Z
DESCRIPTION:Wednesday Evening Bible Study\\nTLM Cafe\\nTopic: God is Eternal\\n\\nhttps://www.truelifeministriesnc.org/events/bible-study-psalm-10218-28/
LOCATION:30141 Aberdeen Road Wagram\, NC 28396
URL:https://www.truelifeministriesnc.org/events/bible-study-psalm-10218-28/
DTSTAMP:20260419T204827Z
END:VEVENT
END:VCALENDAR
