BEGIN:VCALENDAR
VERSION:2.0
PRODID:-//ChurchDev//Events//EN
CALSCALE:GREGORIAN
METHOD:PUBLISH
BEGIN:VEVENT
UID:4992-20260408@www.truelifeministriesnc.org
SUMMARY:Bible Study/Mark 16:1-6\, 1 Corinthians 15:1-4\, 26-28
DTSTART:20260408T230000Z
DTEND:20260409T000000Z
DESCRIPTION:Wednesday Evening Bible Study\\nTLM Cafe\\nTopic: God is Life-Giving\\n\\nhttps://www.truelifeministriesnc.org/events/bible-study-mark-161-6-1-corinthians-151-4-26-28/
LOCATION:30141 Aberdeen Road Wagram\, NC 28396
URL:https://www.truelifeministriesnc.org/events/bible-study-mark-161-6-1-corinthians-151-4-26-28/
DTSTAMP:20260419T204622Z
END:VEVENT
END:VCALENDAR
