BEGIN:VCALENDAR
VERSION:2.0
PRODID:-//ChurchDev//Events//EN
CALSCALE:GREGORIAN
METHOD:PUBLISH
BEGIN:VEVENT
UID:4991-20260401@www.truelifeministriesnc.org
SUMMARY:Bible Study/Deuteronomy 7:6-16
DTSTART:20260401T230000Z
DTEND:20260402T000000Z
DESCRIPTION:Wednesday Evening Bible Study\\nTLM Cafe\\nTopic: God is Faithful\\n\\nhttps://www.truelifeministriesnc.org/events/bible-study-deuteronomy-76-16/
LOCATION:30141 Aberdeen Road Wagram\, NC 28396
URL:https://www.truelifeministriesnc.org/events/bible-study-deuteronomy-76-16/
DTSTAMP:20260419T204904Z
END:VEVENT
END:VCALENDAR
