BEGIN:VCALENDAR
VERSION:2.0
PRODID:-//ChurchDev//Events//EN
CALSCALE:GREGORIAN
METHOD:PUBLISH
BEGIN:VEVENT
UID:4848-20250920@www.truelifeministriesnc.org
SUMMARY:TLM Elders Ministry @ Magnolia Gardens
DTSTART:20250920T180000Z
DTEND:20250920T200000Z
DESCRIPTION:https://www.truelifeministriesnc.org/events/tlm-elders-ministry-magnolia-gardens/
URL:https://www.truelifeministriesnc.org/events/tlm-elders-ministry-magnolia-gardens/
DTSTAMP:20260419T204638Z
END:VEVENT
END:VCALENDAR
