BEGIN:VCALENDAR
VERSION:2.0
PRODID:-//ChurchDev//Events//EN
CALSCALE:GREGORIAN
METHOD:PUBLISH
BEGIN:VEVENT
UID:2968-20220508@www.truelifeministriesnc.org
SUMMARY:Free Sunday Breakfast
DTSTART:20220508T130000Z
DTEND:20220508T140000Z
DESCRIPTION:Free breakfast every Sunday morning in the church café! Invite anyone and everyone!\\n\\nhttps://www.truelifeministriesnc.org/events/free-sunday-breakfast/
LOCATION:30141 Aberdeen Road Wagram\, NC 28396
URL:https://www.truelifeministriesnc.org/events/free-sunday-breakfast/
DTSTAMP:20260419T204637Z
END:VEVENT
END:VCALENDAR
